{"text_format":"2","workbook":"xlsx","n_sheets":2,"sheets":["Sheet_0","Sheet2"],"not_rendered":{"charts":0,"images":0,"macros":0,"external_links":0,"defined_names":1,"comments":0,"pivot_tables":0},"unopened":[],"bounds":{"document_bytes":16777216,"sheet_cells":100000,"run_cost":"one","rows_first":2000,"rows_last":500,"rows_between":2000,"halvings":0,"cell_chars":16384,"cell_head_chars":4096},"cells_cut":0,"cells_raw":0,"read":"whole","date_system":"1900"}

{"sheet":"Sheet_0","index":0,"n_rows":77,"n_cols":60,"rows_kept":77,"cut":false,"hidden":false,"merged":[[1,0,1,59]]}
["工单归属省分","河北","日    期","2023-04-12","专业线","网络质量",null,"大类问题名称","移网网络体验","工单办结月份","2023-04"]
["高品质服务满意度2.0日报表      （日期说明：每月1日至3日，办结月份包含本月数据与上月全月数据。）"]
["工单归属省分","工单归属地市","工单归属区县","专业线","大类问题","小类问题",null,"总投诉率（件/万户）","10010热线投诉率（件/万户）","营业厅、在线等其他投诉渠道投诉率（件/万户）","10015升诉投诉率（件/万户）","日累吹哨量（受理量）","日累投诉吹哨量（受理量）","日累故障吹哨量（受理量）","日累总报到量（办结量）","日累10010热线报到量（办结量）","日累10010热线投诉量（办结量）","日累10010热线报障量（办结量）","日累营业厅、在线等其他投诉渠道报到量（办结量）","日累营业厅、在线等其他投诉渠道投诉量（办结量）","日累营业厅、在线等其他投诉渠道报障量（办结量）","日累10015升诉量（办结量）","当日总工单量（办结量）","当日10010热线报到量（办结量）","当日10010热线投诉量（办结量）","当日10010热线报障量（办结量）","当日营业厅、在线等其他投诉渠道报到量（办结量）","当日营业厅、在线等其他投诉渠道投诉量（办结量）","当日营业厅、在线等其他投诉渠道报障量（办结量）","当日10015升诉（办结量）","总满意率","总满意量","总满意参评量","总解决率","总解决量","总解决参评量","总响应率","总响应量","总响应参评量","投诉满意率","日累-投诉满意量","日累-投诉满意参评量","投诉解决率","日累-投诉解决量","日累-投诉解决参评量","投诉响应率","日累-投诉响应量","日累-投诉响应参评量","日累-投诉未邀请评价量","故障满意率","日累-故障满意量","日累-故障满意参评量","故障解决率","日累-故障解决量","日累-故障解决参评量","故障响应率","日累-故障响应量","日累-故障响应参评量","投诉率日累环比","满意率日累环比"]
["河北","全部","-","网络质量","移网网络体验","--",{"$f":"B4&F4","v":"全部--"},2.3587,2.1705,0.0578,0.1304,5112,5112,0,5138,4728,4728,0,126,126,0,284,408,372,372,0,10,10,0,26,0.9175,2090,2272,0.862,2098,2428,0.967,2083,2148,0.9175,2090,2272,0.862,2098,2428,0.967,2083,2148,6,0,0,0,0,0,0,0,0,0,0.399,0.0259]
["河北","全部","-","网络质量","移网网络体验","上网中断、不可用",{"$f":"B5&F5","v":"全部上网中断、不可用"},0.5711,0.465,0.0092,0.0969,1274,1274,0,1244,1013,1013,0,20,20,0,211,85,63,63,0,1,1,0,21,0.9263,515,556,0.8809,525,596,0.9789,510,521,0.9263,515,556,0.8809,525,596,0.9789,510,521,0,0,0,0,0,0,0,0,0,0,0.3981,0.0417]
["河北","全部","-","网络质量","移网网络体验","上网网络卡顿","全部上网网络卡顿",0.7001,0.6771,0.0179,0.005,1570,1570,0,1525,1475,1475,0,39,39,0,11,135,132,132,0,2,2,0,1,0.9311,635,682,0.8982,653,727,0.9769,633,648,0.9311,635,682,0.8982,653,727,0.9769,633,648,0,0,0,0,0,0,0,0,0,0,0.2109,0.0324]
["河北","全部","-","网络质量","移网网络体验","漫游争议","全部漫游争议",0.0064,0.005,0.0014,0,11,11,0,14,11,11,0,3,3,0,0,1,0,0,0,1,1,0,0,1,7,7,1,7,7,1,7,7,1,7,7,1,7,7,1,7,7,0,0,0,0,0,0,0,0,0,0,0.9915,0]
["河北","全部","-","网络质量","移网网络体验","短信使用问题","全部短信使用问题",0.0574,0.0312,0.0133,0.0129,122,122,0,125,68,68,0,29,29,0,28,13,7,7,0,3,3,0,3,0.8148,22,27,0.6875,22,32,0.8333,20,24,0.8148,22,27,0.6875,22,32,0.8333,20,24,0,0,0,0,0,0,0,0,0,0,0.8039,0.0864]
["河北","全部","-","网络质量","移网网络体验","语音通信问题","全部语音通信问题",1.0237,0.9921,0.0161,0.0156,2135,2135,0,2230,2161,2161,0,35,35,0,34,174,170,170,0,3,3,0,1,0.9056,911,1000,0.8312,891,1066,0.957,913,948,0.9056,911,1000,0.8312,891,1066,0.957,913,948,6,0,0,0,0,0,0,0,0,0,0.5409,0.0123]
["河北","保定","-","网络质量","移网网络体验","--","保定--",1.9307,1.7416,0.0684,0.1207,542,542,0,480,433,433,0,17,17,0,30,37,34,34,0,1,1,0,2,0.9231,156,168,0.883,166,187,0.9632,157,162,0.9231,156,168,0.883,166,187,0.9632,157,162,1,0,0,0,0,0,0,0,0,0,0.2375,0.0194]
["河北","保定","-","网络质量","移网网络体验","上网中断、不可用","保定上网中断、不可用",0.4344,0.3258,0.008,0.1006,120,120,0,108,81,81,0,2,2,0,25,8,6,6,0,1,1,0,1,0.8974,35,39,0.925,37,40,0.9189,34,37,0.8974,35,39,0.925,37,40,0.9189,34,37,0,0,0,0,0,0,0,0,0,0,0.2213,-0.04]
["河北","保定","-","网络质量","移网网络体验","上网网络卡顿","保定上网网络卡顿",0.6838,0.6637,0.0161,0.004,205,205,0,170,165,165,0,4,4,0,1,15,14,14,0,0,0,0,1,0.9672,59,61,0.942,65,69,1,60,60,0.9672,59,61,0.942,65,69,1,60,60,0,0,0,0,0,0,0,0,0,0,0.3217,0.0984]
["河北","保定","-","网络质量","移网网络体验","漫游争议","保定漫游争议",0.004,0.004,0,0,1,1,0,1,1,1,0,0,0,0,0,0,0,0,0,0,0,0,0,1,1,1,1,1,1,1,1,1,1,1,1,1,1,1,1,1,1,0,0,0,0,0,0,0,0,0,0,0,0]
["河北","保定","-","网络质量","移网网络体验","短信使用问题","保定短信使用问题",0.0523,0.0282,0.0201,0.004,13,13,0,13,7,7,0,5,5,0,1,2,2,2,0,0,0,0,0,1,1,1,1,2,2,1,1,1,1,1,1,1,2,2,1,1,1,0,0,0,0,0,0,0,0,0,0,0.6171,2]
["河北","保定","-","网络质量","移网网络体验","语音通信问题","保定语音通信问题",0.7562,0.72,0.0241,0.0121,203,203,0,188,179,179,0,6,6,0,3,12,12,12,0,0,0,0,0,0.8955,60,66,0.8026,61,75,0.9531,61,63,0.8955,60,66,0.8026,61,75,0.9531,61,63,1,0,0,0,0,0,0,0,0,0,0.1549,-0.0365]
["河北","沧州","-","网络质量","移网网络体验","--","沧州--",2.6029,2.4782,0.0473,0.0774,598,598,0,605,576,576,0,11,11,0,18,55,54,54,0,0,0,0,1,0.9039,254,281,0.852,259,304,0.966,256,265,0.9039,254,281,0.852,259,304,0.966,256,265,0,0,0,0,0,0,0,0,0,0,0.71,-0.0212]
["河北","邯郸","-","网络质量","移网网络体验","--","邯郸--",1.484,1.3591,0.022,0.1029,416,416,0,404,370,370,0,6,6,0,28,35,32,32,0,0,0,0,3,0.9122,187,205,0.91,192,211,0.9741,188,193,0.9122,187,205,0.91,192,211,0.9741,188,193,0,0,0,0,0,0,0,0,0,0,0.3011,-0.0108]
["河北","秦皇岛","-","网络质量","移网网络体验","--","秦皇岛--",2.0995,1.9823,0.0195,0.0977,201,201,0,215,203,203,0,2,2,0,10,11,11,11,0,0,0,0,0,0.9494,75,79,0.8916,74,83,0.973,72,74,0.9494,75,79,0.8916,74,83,0.973,72,74,0,0,0,0,0,0,0,0,0,0,0.2563,0.1047]
["河北","廊坊","-","网络质量","移网网络体验","--","廊坊--",2.4588,2.2436,0.0799,0.1352,409,409,0,400,365,365,0,13,13,0,22,43,40,40,0,2,2,0,1,0.9497,170,179,0.849,163,192,0.9882,167,169,0.9497,170,179,0.849,163,192,0.9882,167,169,0,0,0,0,0,0,0,0,0,0,0.3904,0.1051]
["河北","唐山","-","网络质量","移网网络体验","--","唐山--",2.2992,2.1552,0.0452,0.0987,549,549,0,559,524,524,0,11,11,0,24,44,40,40,0,1,1,0,3,0.9151,248,270,0.8443,244,288,0.9715,239,245,0.9151,248,270,0.8443,244,288,0.9715,239,245,1,0,0,0,0,0,0,0,0,0,0.1613,0.0144]
["河北","承德","-","网络质量","移网网络体验","--","承德--",2.3842,2.2753,0.0198,0.089,251,251,0,241,230,230,0,2,2,0,9,14,14,14,0,0,0,0,0,0.9375,90,96,0.8911,90,101,0.9762,82,84,0.9375,90,96,0.8911,90,101,0.9762,82,84,0,0,0,0,0,0,0,0,0,0,0.3281,0.0328]
["河北","石家庄","-","网络质量","移网网络体验","--","石家庄--",4.034,3.6857,0.1344,0.2139,1356,1356,0,1471,1344,1344,0,49,49,0,78,96,82,82,0,5,5,0,9,0.9097,655,719,0.849,652,767,0.9612,668,694,0.9097,655,719,0.849,652,767,0.9612,668,694,1,0,0,0,0,0,0,0,0,0,0.6597,0.0582]
["河北","衡水","-","网络质量","移网网络体验","--","衡水--",1.4978,1.3676,0.013,0.1172,238,238,0,230,210,210,0,2,2,0,18,17,13,13,0,0,0,0,4,0.9242,61,65,0.8841,61,68,0.9688,62,63,0.9242,61,65,0.8841,61,68,0.9688,62,63,1,0,0,0,0,0,0,0,0,0,0.3839,-0.0265]
["河北","张家口","-","网络质量","移网网络体验","--","张家口--",2.0034,1.8062,0.0623,0.1349,195,195,0,193,174,174,0,6,6,0,13,19,18,18,0,1,1,0,0,0.8793,51,58,0.8548,53,62,0.9474,54,57,0.8793,51,58,0.8548,53,62,0.9474,54,57,0,0,0,0,0,0,0,0,0,0,0.5702,-0.0547]
["河北","邢台","-","网络质量","移网网络体验","--","邢台--",1.4749,1.2813,0.0342,0.1595,288,288,0,259,225,225,0,6,6,0,28,25,22,22,0,0,0,0,3,0.9573,112,117,0.8846,115,130,0.9817,107,109,0.9573,112,117,0.8846,115,130,0.9817,107,109,0,0,0,0,0,0,0,0,0,0,0.0638,0.0484]
["河北","雄安新区","-","网络质量","移网网络体验","--","雄安新区--",3.1655,2.8919,0.0391,0.2345,69,69,0,81,74,74,0,1,1,0,6,12,12,12,0,0,0,0,0,0.8378,31,35,0.7838,29,35,0.8857,31,33,0.8378,31,35,0.7838,29,35,0.8857,31,33,2,0,0,0,0,0,0,0,0,0,-0.0008,-0.0037]
["河北","邢台","-","网络质量","移网网络体验","上网中断、不可用","邢台上网中断、不可用",0.4499,0.3246,0.0057,0.1196,80,80,0,79,57,57,0,1,1,0,21,7,5,5,0,0,0,0,2,0.9231,36,39,0.7857,33,42,0.9714,34,35,0.9231,36,39,0.7857,33,42,0.9714,34,35,0,0,0,0,0,0,0,0,0,0,0.172,0.0186]
["河北","衡水","-","网络质量","移网网络体验","上网中断、不可用","衡水上网中断、不可用",0.4493,0.3386,0,0.1107,72,72,0,69,52,52,0,0,0,0,17,4,1,1,0,0,0,0,3,1,22,22,0.9583,23,24,1,21,21,1,22,22,0.9583,23,24,1,21,21,0,0,0,0,0,0,0,0,0,0,0.6028,0.0556]
["河北","张家口","-","网络质量","移网网络体验","上网中断、不可用","张家口上网中断、不可用",0.6124,0.4879,0,0.1246,61,61,0,59,47,47,0,0,0,0,12,4,4,4,0,0,0,0,0,1,18,18,1,18,18,1,18,18,1,18,18,1,18,18,1,18,18,0,0,0,0,0,0,0,0,0,0,1.1689,0.1]
["河北","承德","-","网络质量","移网网络体验","上网中断、不可用","承德上网中断、不可用",0.6826,0.6035,0.0099,0.0692,73,73,0,69,61,61,0,1,1,0,7,4,4,4,0,0,0,0,0,0.9429,33,35,0.9189,34,37,0.9677,30,31,0.9429,33,35,0.9189,34,37,0.9677,30,31,0,0,0,0,0,0,0,0,0,0,0.1866,0.0607]
["河北","石家庄","-","网络质量","移网网络体验","上网中断、不可用","石家庄上网中断、不可用",0.7267,0.5841,0.0219,0.1207,268,268,0,265,213,213,0,8,8,0,44,18,11,11,0,0,0,0,7,0.9348,129,138,0.9007,136,151,0.9926,134,135,0.9348,129,138,0.9007,136,151,0.9926,134,135,0,0,0,0,0,0,0,0,0,0,0.3937,0.055]
["河北","雄安新区","-","网络质量","移网网络体验","上网中断、不可用","雄安新区上网中断、不可用",0.8988,0.7034,0,0.1954,19,19,0,23,18,18,0,0,0,0,5,3,3,3,0,0,0,0,0,0.6,3,5,0.6,3,5,1,4,4,0.6,3,5,0.6,3,5,1,4,4,0,0,0,0,0,0,0,0,0,0,0.6213,-0.3]
["河北","唐山","-","网络质量","移网网络体验","上网中断、不可用","唐山上网中断、不可用",0.6293,0.5429,0.0082,0.0781,152,152,0,153,132,132,0,2,2,0,19,10,7,7,0,0,0,0,3,0.9054,67,74,0.8354,66,79,0.9846,64,65,0.9054,67,74,0.8354,66,79,0.9846,64,65,0,0,0,0,0,0,0,0,0,0,0.304,0.0347]
["河北","秦皇岛","-","网络质量","移网网络体验","上网中断、不可用","秦皇岛上网中断、不可用",0.6054,0.5371,0,0.0684,55,55,0,62,55,55,0,0,0,0,7,2,2,2,0,0,0,0,0,0.8261,19,23,0.7826,18,23,0.9091,20,22,0.8261,19,23,0.7826,18,23,0.9091,20,22,0,0,0,0,0,0,0,0,0,0,0.3181,0.0326]
["河北","廊坊","-","网络质量","移网网络体验","上网中断、不可用","廊坊上网中断、不可用",0.6454,0.5348,0.0123,0.0984,113,113,0,105,87,87,0,2,2,0,16,6,5,5,0,0,0,0,1,1,37,37,0.8182,36,44,0.9722,35,36,1,37,37,0.8182,36,44,0.9722,35,36,0,0,0,0,0,0,0,0,0,0,0.43,0.1786]
["河北","沧州","-","网络质量","移网网络体验","上网中断、不可用","沧州上网中断、不可用",0.5722,0.4991,0.0129,0.0602,131,131,0,133,116,116,0,3,3,0,14,9,8,8,0,0,0,0,1,0.9077,59,65,0.9014,64,71,1,59,59,0.9077,59,65,0.9014,64,71,1,59,59,0,0,0,0,0,0,0,0,0,0,0.7643,-0.0122]
["河北","邯郸","-","网络质量","移网网络体验","上网中断、不可用",{"$f":"B37&F37","v":"邯郸上网中断、不可用"},0.4371,0.3453,0.0037,0.0882,130,130,0,119,94,94,0,1,1,0,24,10,7,7,0,0,0,0,3,0.9344,57,61,0.9194,57,62,0.9828,57,58,0.9344,57,61,0.9194,57,62,0.9828,57,58,0,0,0,0,0,0,0,0,0,0,0.35,0.0679]
["河北","邢台","-","网络质量","移网网络体验","上网网络卡顿","邢台上网网络卡顿",0.4328,0.4043,0.0171,0.0114,90,90,0,76,71,71,0,3,3,0,2,8,8,8,0,0,0,0,0,1,28,28,1,37,37,1,25,25,1,28,28,1,37,37,1,25,25,0,0,0,0,0,0,0,0,0,0,0.0208,0.0333]
["河北","沧州","-","网络质量","移网网络体验","上网网络卡顿","沧州上网网络卡顿",0.6368,0.6325,0.0043,0,153,153,0,148,147,147,0,1,1,0,0,13,13,13,0,0,0,0,0,0.9333,70,75,0.939,77,82,0.9583,69,72,0.9333,70,75,0.939,77,82,0.9583,69,72,0,0,0,0,0,0,0,0,0,0,0.3265,-0.0192]
["河北","邯郸","-","网络质量","移网网络体验","上网网络卡顿","邯郸上网网络卡顿",0.4077,0.393,0.011,0.0037,118,118,0,111,107,107,0,3,3,0,1,12,12,12,0,0,0,0,0,0.8929,50,56,0.8833,53,60,0.9423,49,52,0.8929,50,56,0.8833,53,60,0.9423,49,52,0,0,0,0,0,0,0,0,0,0,0.1665,-0.0357]
["河北","唐山","-","网络质量","移网网络体验","上网网络卡顿","唐山上网网络卡顿",0.9131,0.8966,0.0123,0.0041,222,222,0,222,218,218,0,3,3,0,1,15,15,15,0,0,0,0,0,0.9057,96,106,0.8545,94,110,0.9798,97,99,0.9057,96,106,0.8545,94,110,0.9798,97,99,0,0,0,0,0,0,0,0,0,0,0.0542,0.0202]
["河北","承德","-","网络质量","移网网络体验","上网网络卡顿","承德上网网络卡顿",0.6628,0.6529,0,0.0099,71,71,0,67,66,66,0,0,0,0,1,2,2,2,0,0,0,0,0,1,19,19,0.9,18,20,1,16,16,1,19,19,0.9,18,20,1,16,16,0,0,0,0,0,0,0,0,0,0,0.2609,0]
["河北","石家庄","-","网络质量","移网网络体验","上网网络卡顿","石家庄上网网络卡顿",1.0147,0.9763,0.0329,0.0055,360,360,0,370,356,356,0,12,12,0,2,26,26,26,0,0,0,0,0,0.9444,187,198,0.8883,183,206,0.9794,190,194,0.9444,187,198,0.8883,183,206,0.9794,190,194,0,0,0,0,0,0,0,0,0,0,0.3088,0.12]
["河北","秦皇岛","-","网络质量","移网网络体验","上网网络卡顿","秦皇岛上网网络卡顿",0.6543,0.6445,0.0098,0,67,67,0,67,66,66,0,1,1,0,0,6,6,6,0,0,0,0,0,1,18,18,0.9,18,20,1,16,16,1,18,18,0.9,18,20,1,16,16,0,0,0,0,0,0,0,0,0,0,0.1158,0.0417]
["河北","廊坊","-","网络质量","移网网络体验","上网网络卡顿","廊坊上网网络卡顿",0.8175,0.7684,0.0369,0.0123,136,136,0,133,125,125,0,6,6,0,2,21,20,20,0,1,1,0,0,0.8986,62,69,0.9014,64,71,1,62,62,0.8986,62,69,0.9014,64,71,1,62,62,0,0,0,0,0,0,0,0,0,0,0.2131,0.0137]
["河北","雄安新区","-","网络质量","移网网络体验","上网网络卡顿","雄安新区上网网络卡顿",1.2506,1.2506,0,0,23,23,0,32,32,32,0,0,0,0,0,6,6,6,0,0,0,0,0,0.8667,13,15,0.8,12,15,0.8667,13,15,0.8667,13,15,0.8,12,15,0.8667,13,15,0,0,0,0,0,0,0,0,0,0,-0.3421,-0.0203]
["河北","衡水","-","网络质量","移网网络体验","上网网络卡顿","衡水上网网络卡顿",0.534,0.521,0.013,0,83,83,0,82,80,80,0,2,2,0,0,5,5,5,0,0,0,0,0,0.9524,20,21,0.9,18,20,1,21,21,0.9524,20,21,0.9,18,20,1,21,21,0,0,0,0,0,0,0,0,0,0,0.7427,-0.0476]
["河北","张家口","-","网络质量","移网网络体验","上网网络卡顿","张家口上网网络卡顿",0.4879,0.436,0.0415,0.0104,42,42,0,47,42,42,0,4,4,0,1,6,5,5,0,1,1,0,0,0.8125,13,16,0.8235,14,17,0.9375,15,16,0.8125,13,16,0.8235,14,17,0.9375,15,16,0,0,0,0,0,0,0,0,0,0,0.2276,-0.0714]
["河北","张家口","-","网络质量","移网网络体验","漫游争议","张家口漫游争议",0.0104,0.0104,0,0,1,1,0,1,1,1,0,0,0,0,0,0,0,0,0,0,0,0,0,1,1,1,1,1,1,1,1,1,1,1,1,1,1,1,1,1,1,0,0,0,0,0,0,0,0,0,0,0,0]
["河北","唐山","-","网络质量","移网网络体验","漫游争议","唐山漫游争议",0.0082,0.0082,0,0,1,1,0,2,2,2,0,0,0,0,0,0,0,0,0,0,0,0,0,1,1,1,1,1,1,1,1,1,1,1,1,1,1,1,1,1,1,0,0,0,0,0,0,0,0,0,0,0.9943,0]
["河北","秦皇岛","-","网络质量","移网网络体验","漫游争议","秦皇岛漫游争议",0.0098,0.0098,0,0,1,1,0,1,1,1,0,0,0,0,0,0,0,0,0,0,0,0,0,1,1,1,1,1,1,1,1,1,1,1,1,1,1,1,1,1,1,0,0,0,0,0,0,0,0,0,0,0,0]
["河北","廊坊","-","网络质量","移网网络体验","漫游争议","廊坊漫游争议",0,0,0,0,0,0,0,0,0,0,0,0,0,0,0,0,0,0,0,0,0,0,0,0,0,0,0,0,0,0,0,0,0,0,0,0,0,0,0,0,0,0,0,0,0,0,0,0,0,0,0,-1,0]
["河北","石家庄","-","网络质量","移网网络体验","漫游争议","石家庄漫游争议",0.0192,0.011,0.0082,0,6,6,0,7,4,4,0,3,3,0,0,1,0,0,0,1,1,0,0,1,3,3,1,3,3,1,3,3,1,3,3,1,3,3,1,3,3,0,0,0,0,0,0,0,0,0,0,0.7395,0]
["河北","邯郸","-","网络质量","移网网络体验","漫游争议","邯郸漫游争议",0.0073,0.0073,0,0,1,1,0,2,2,2,0,0,0,0,0,0,0,0,0,0,0,0,0,0,0,0,0,0,0,0,0,0,0,0,0,0,0,0,0,0,0,0,0,0,0,0,0,0,0,0,0,0,0]
["河北","唐山","-","网络质量","移网网络体验","短信使用问题","唐山短信使用问题",0.0411,0.0288,0.0082,0.0041,8,8,0,10,7,7,0,2,2,0,1,0,0,0,0,0,0,0,0,1,5,5,0.6,3,5,1,4,4,1,5,5,0.6,3,5,1,4,4,0,0,0,0,0,0,0,0,0,0,0.2465,0.3333]
["河北","沧州","-","网络质量","移网网络体验","短信使用问题","沧州短信使用问题",0.043,0.0301,0.0086,0.0043,9,9,0,10,7,7,0,2,2,0,1,2,2,2,0,0,0,0,0,0.3333,1,3,0.3333,1,3,0.3333,1,3,0.3333,1,3,0.3333,1,3,0.3333,1,3,0,0,0,0,0,0,0,0,0,0,2.3163,0]
["河北","邯郸","-","网络质量","移网网络体验","短信使用问题","邯郸短信使用问题",0.0257,0.022,0.0037,0,7,7,0,7,6,6,0,1,1,0,0,0,0,0,0,0,0,0,0,0,0,0,0,0,0,0,0,0,0,0,0,0,0,0,0,0,0,0,0,0,0,0,0,0,0,0,0,-0.2235,-1]
["河北","邢台","-","网络质量","移网网络体验","短信使用问题","邢台短信使用问题",0.0399,0.0228,0.0114,0.0057,7,7,0,7,4,4,0,2,2,0,1,1,1,1,0,0,0,0,0,0,0,0,0,0,0,0,0,0,0,0,0,0,0,0,0,0,0,0,0,0,0,0,0,0,0,0,0,1.3193,-1]
["河北","承德","-","网络质量","移网网络体验","短信使用问题","承德短信使用问题",0.0099,0.0099,0,0,0,0,0,1,1,1,0,0,0,0,0,0,0,0,0,0,0,0,0,1,1,1,1,1,1,1,1,1,1,1,1,1,1,1,1,1,1,0,0,0,0,0,0,0,0,0,0,-0.5013,0]
["河北","石家庄","-","网络质量","移网网络体验","短信使用问题","石家庄短信使用问题",0.1481,0.0658,0.0384,0.0439,53,53,0,54,24,24,0,14,14,0,16,6,2,2,0,2,2,0,2,0.7,7,10,0.6667,8,12,0.75,6,8,0.7,7,10,0.6667,8,12,0.75,6,8,0,0,0,0,0,0,0,0,0,0,0.988,-0.2125]
["河北","秦皇岛","-","网络质量","移网网络体验","短信使用问题","秦皇岛短信使用问题",0.0684,0.0391,0,0.0293,7,7,0,7,4,4,0,0,0,0,3,0,0,0,0,0,0,0,0,1,2,2,0.6667,2,3,1,2,2,1,2,2,0.6667,2,3,1,2,2,0,0,0,0,0,0,0,0,0,0,1.3315,0]
["河北","廊坊","-","网络质量","移网网络体验","短信使用问题","廊坊短信使用问题",0.043,0.0061,0.0184,0.0184,8,8,0,7,1,1,0,3,3,0,3,1,0,0,0,1,1,0,0,1,2,2,1,3,3,1,2,2,1,2,2,1,3,3,1,2,2,0,0,0,0,0,0,0,0,0,0,0.7398,0]
["河北","雄安新区","-","网络质量","移网网络体验","短信使用问题","雄安新区短信使用问题",0.0391,0,0,0.0391,1,1,0,1,0,0,0,0,0,0,1,0,0,0,0,0,0,0,0,1,1,1,1,1,1,1,1,1,1,1,1,1,1,1,1,1,1,0,0,0,0,0,0,0,0,0,0,0,0]
["河北","衡水","-","网络质量","移网网络体验","短信使用问题","衡水短信使用问题",0.026,0.0195,0,0.0065,6,6,0,4,3,3,0,0,0,0,1,1,0,0,0,0,0,0,1,0,0,0,0,0,0,0,0,0,0,0,0,0,0,0,0,0,0,0,0,0,0,0,0,0,0,0,0,2.9954,0]
["河北","张家口","-","网络质量","移网网络体验","短信使用问题","张家口短信使用问题",0.0415,0.0415,0,0,3,3,0,4,4,4,0,0,0,0,0,0,0,0,0,0,0,0,0,1,2,2,0.5,1,2,1,2,2,1,2,2,0.5,1,2,1,2,2,0,0,0,0,0,0,0,0,0,0,2.9701,0]
["河北","邢台","-","网络质量","移网网络体验","语音通信问题","邢台语音通信问题",0.5524,0.5296,0,0.0228,111,111,0,97,93,93,0,0,0,0,4,9,8,8,0,0,0,0,1,0.96,48,50,0.8824,45,51,0.9796,48,49,0.96,48,50,0.8824,45,51,0.9796,48,49,0,0,0,0,0,0,0,0,0,0,-0.0162,0.088]
["河北","沧州","-","网络质量","移网网络体验","语音通信问题","沧州语音通信问题",1.351,1.3165,0.0215,0.0129,305,305,0,314,306,306,0,5,5,0,3,31,31,31,0,0,0,0,0,0.8986,124,138,0.7905,117,148,0.9695,127,131,0.8986,124,138,0.7905,117,148,0.9695,127,131,0,0,0,0,0,0,0,0,0,0,0.9165,-0.0032]
["河北","邯郸","-","网络质量","移网网络体验","语音通信问题","邯郸语音通信问题",0.6061,0.5914,0.0037,0.011,160,160,0,165,161,161,0,1,1,0,3,13,13,13,0,0,0,0,0,0.9091,80,88,0.9213,82,89,0.988,82,83,0.9091,80,88,0.9213,82,89,0.988,82,83,0,0,0,0,0,0,0,0,0,0,0.396,-0.0606]
["河北","衡水","-","网络质量","移网网络体验","语音通信问题",{"$f":"B69&F69","v":"衡水语音通信问题"},0.4884,0.4884,0,0,77,77,0,75,75,75,0,0,0,0,0,7,7,7,0,0,0,0,0,0.8261,19,22,0.8,20,24,0.9091,20,21,0.8261,19,22,0.8,20,24,0.9091,20,21,1,0,0,0,0,0,0,0,0,0,-0.0012,-0.0988]
["河北","张家口","-","网络质量","移网网络体验","语音通信问题",{"$f":"B70&F70","v":"张家口语音通信问题"},0.8512,0.8304,0.0208,0,88,88,0,82,80,80,0,2,2,0,0,9,9,9,0,0,0,0,0,0.8095,17,21,0.7917,19,24,0.9,18,20,0.8095,17,21,0.7917,19,24,0.9,18,20,0,0,0,0,0,0,0,0,0,0,0.4534,-0.1553]
["河北","雄安新区","-","网络质量","移网网络体验","语音通信问题",{"$f":"B71&F71","v":"雄安新区语音通信问题"},0.977,0.9379,0.0391,0,26,26,0,25,24,24,0,1,1,0,0,3,3,3,0,0,0,0,0,0.875,14,14,0.8125,13,14,0.8667,13,13,0.875,14,14,0.8125,13,14,0.8667,13,13,2,0,0,0,0,0,0,0,0,0,0.3707,0.2031]
["河北","唐山","-","网络质量","移网网络体验","语音通信问题",{"$f":"B72&F72","v":"唐山语音通信问题"},0.7074,0.6786,0.0165,0.0123,166,166,0,172,165,165,0,4,4,0,3,19,18,18,0,1,1,0,0,0.9294,79,84,0.8511,80,93,0.9481,73,76,0.9294,79,84,0.8511,80,93,0.9481,73,76,1,0,0,0,0,0,0,0,0,0,0.1911,-0.019]
["河北","承德","-","网络质量","移网网络体验","语音通信问题",{"$f":"B73&F73","v":"承德语音通信问题"},1.0288,1.0091,0.0099,0.0099,107,107,0,104,102,102,0,1,1,0,1,8,8,8,0,0,0,0,0,0.9024,37,41,0.8605,37,43,0.9722,35,36,0.9024,37,41,0.8605,37,43,0.9722,35,36,0,0,0,0,0,0,0,0,0,0,0.5255,0.0468]
["河北","石家庄","-","网络质量","移网网络体验","语音通信问题",{"$f":"B74&F74","v":"石家庄语音通信问题"},2.1253,2.0485,0.0329,0.0439,669,669,0,775,747,747,0,12,12,0,16,45,43,43,0,2,2,0,0,0.8868,329,370,0.8131,322,395,0.9437,335,354,0.8868,329,370,0.8131,322,395,0.9437,335,354,1,0,0,0,0,0,0,0,0,0,1.0273,0.0346]
["河北","秦皇岛","-","网络质量","移网网络体验","语音通信问题",{"$f":"B75&F75","v":"秦皇岛语音通信问题"},0.7617,0.7519,0.0098,0,71,71,0,78,77,77,0,1,1,0,0,3,3,3,0,0,0,0,0,1,35,35,0.9722,35,36,1,33,33,1,35,35,0.9722,35,36,1,33,33,0,0,0,0,0,0,0,0,0,0,0.2777,0.2667]
["河北","廊坊","-","网络质量","移网网络体验","语音通信问题",{"$f":"B76&F76","v":"廊坊语音通信问题"},0.9528,0.9343,0.0123,0.0061,152,152,0,155,152,152,0,2,2,0,1,15,15,15,0,0,0,0,0,0.9718,69,71,0.8108,60,74,0.9855,68,69,0.9718,69,71,0.8108,60,74,0.9855,68,69,0,0,0,0,0,0,0,0,0,0,0.5724,0.1526]
["",{"$nulls":5},{"$f":"B77&F77","v":""}]

{"sheet":"Sheet2","index":1,"n_rows":67,"n_cols":41,"rows_kept":67,"cut":false,"hidden":false,"merged":[]}
["账期月","账期日","日期","工单归属地市","专业线","大类问题","小类问题",null,"总投诉量（办结量）","10010热线投诉量（办结量）","营业厅、在线等其他投诉渠道（办结量）","10015升诉量（办结量）","总满意率","总满意参评量",null,"总参评量",null,"投诉满意率","投诉满意量","投诉满意参评量","投诉解决率","投诉解决量",null,"投诉解决参评量",null,"投诉响应率","投诉响应量",null,"投诉响应参评量",null,"投诉未邀请评价量","故障满意率","故障满意量","故障满意参评量","故障解决率","故障解决量","故障解决参评量","故障响应率","故障响应量","故障响应参评量","\u001d\u001d\u001e\u001e\u001e\u001d\u001c\u001c\u001d\u001c\u001f\u001e\u001d\u001f"]
[202304,12,"2023-04-12","石家庄","网络质量","移网网络体验","--",{"$f":"D2&G2","v":"石家庄--"},1471,1344,49,78,0.9097,655,{"$f":"VLOOKUP(H2,Sheet_0!G:AG,26,0)","v":655},719,{"$f":"VLOOKUP(H2,Sheet_0!G:AG,27,0)","v":719},0.9097,655,719,0.849,652,{"$f":"VLOOKUP(H2,Sheet_0!G:AJ,29,0)","v":652},767,{"$f":"VLOOKUP(H2,Sheet_0!G:AJ,30,0)","v":767},0.9612,668,{"$f":"VLOOKUP(H2,Sheet_0!G:AM,32,0)","v":668},694,{"$f":"VLOOKUP(H2,Sheet_0!G:AM,33,0)","v":694},1,null,0,0,null,0,0,null,0,0,"\u001d\u001d\u001e\u001e\u001e\u001d\u001c\u001c\u001d\u001c\u001f\u001e\u001d\u001f"]
[202304,12,"2023-04-12","石家庄","网络质量","移网网络体验","上网中断、不可用",{"$f":"D3&G3","v":"石家庄上网中断、不可用"},265,213,8,44,0.9348,129,{"$f":"VLOOKUP(H3,Sheet_0!G:AG,26,0)","v":129},138,{"$f":"VLOOKUP(H3,Sheet_0!G:AG,27,0)","v":138},0.9348,129,138,0.9007,136,{"$f":"VLOOKUP(H3,Sheet_0!G:AJ,29,0)","v":136},151,{"$f":"VLOOKUP(H3,Sheet_0!G:AJ,30,0)","v":151},0.9926,134,{"$f":"VLOOKUP(H3,Sheet_0!G:AM,32,0)","v":134},135,{"$f":"VLOOKUP(H3,Sheet_0!G:AM,33,0)","v":135},0,null,0,0,null,0,0,null,0,0,"\u001d\u001d\u001e\u001e\u001e\u001d\u001c\u001c\u001d\u001c\u001f\u001e\u001d\u001f"]
[202304,12,"2023-04-12","石家庄","网络质量","移网网络体验","上网网络卡顿","石家庄上网网络卡顿",370,356,12,2,0.9444,187,{"$f":"VLOOKUP(H4,Sheet_0!G:AG,26,0)","v":187},198,{"$f":"VLOOKUP(H4,Sheet_0!G:AG,27,0)","v":198},0.9444,187,198,0.8883,183,{"$f":"VLOOKUP(H4,Sheet_0!G:AJ,29,0)","v":183},206,{"$f":"VLOOKUP(H4,Sheet_0!G:AJ,30,0)","v":206},0.9794,190,{"$f":"VLOOKUP(H4,Sheet_0!G:AM,32,0)","v":190},194,{"$f":"VLOOKUP(H4,Sheet_0!G:AM,33,0)","v":194},0,null,0,0,null,0,0,null,0,0,"\u001d\u001d\u001e\u001e\u001e\u001d\u001c\u001c\u001d\u001c\u001f\u001e\u001d\u001f"]
[202304,12,"2023-04-12","石家庄","网络质量","移网网络体验","漫游争议","石家庄漫游争议",7,4,3,0,1,3,{"$f":"VLOOKUP(H5,Sheet_0!G:AG,26,0)","v":3},3,{"$f":"VLOOKUP(H5,Sheet_0!G:AG,27,0)","v":3},1,3,3,1,3,{"$f":"VLOOKUP(H5,Sheet_0!G:AJ,29,0)","v":3},3,{"$f":"VLOOKUP(H5,Sheet_0!G:AJ,30,0)","v":3},1,3,{"$f":"VLOOKUP(H5,Sheet_0!G:AM,32,0)","v":3},3,{"$f":"VLOOKUP(H5,Sheet_0!G:AM,33,0)","v":3},0,null,0,0,null,0,0,null,0,0,"\u001d\u001d\u001e\u001e\u001e\u001d\u001c\u001c\u001d\u001c\u001f\u001e\u001d\u001f"]
[202304,12,"2023-04-12","石家庄","网络质量","移网网络体验","短信使用问题","石家庄短信使用问题",54,24,14,16,0.7,7,{"$f":"VLOOKUP(H6,Sheet_0!G:AG,26,0)","v":7},10,{"$f":"VLOOKUP(H6,Sheet_0!G:AG,27,0)","v":10},0.7,7,10,0.6667,8,{"$f":"VLOOKUP(H6,Sheet_0!G:AJ,29,0)","v":8},12,{"$f":"VLOOKUP(H6,Sheet_0!G:AJ,30,0)","v":12},0.75,6,{"$f":"VLOOKUP(H6,Sheet_0!G:AM,32,0)","v":6},8,{"$f":"VLOOKUP(H6,Sheet_0!G:AM,33,0)","v":8},0,null,0,0,null,0,0,null,0,0,"\u001d\u001d\u001e\u001e\u001e\u001d\u001c\u001c\u001d\u001c\u001f\u001e\u001d\u001f"]
[202304,12,"2023-04-12","石家庄","网络质量","移网网络体验","语音通信问题","石家庄语音通信问题",775,747,12,16,0.8868,329,{"$f":"VLOOKUP(H7,Sheet_0!G:AG,26,0)","v":329},370,{"$f":"VLOOKUP(H7,Sheet_0!G:AG,27,0)","v":370},0.8868,329,370,0.8131,322,{"$f":"VLOOKUP(H7,Sheet_0!G:AJ,29,0)","v":322},395,{"$f":"VLOOKUP(H7,Sheet_0!G:AJ,30,0)","v":395},0.9437,335,{"$f":"VLOOKUP(H7,Sheet_0!G:AM,32,0)","v":335},354,{"$f":"VLOOKUP(H7,Sheet_0!G:AM,33,0)","v":354},1,null,0,0,null,0,0,null,0,0,"\u001d\u001d\u001e\u001e\u001e\u001d\u001c\u001c\u001d\u001c\u001f\u001e\u001d\u001f"]
[202304,12,"2023-04-12","唐山","网络质量","移网网络体验","--","唐山--",559,524,11,24,0.9151,248,{"$f":"VLOOKUP(H8,Sheet_0!G:AG,26,0)","v":248},270,{"$f":"VLOOKUP(H8,Sheet_0!G:AG,27,0)","v":270},0.9151,248,270,0.8443,244,{"$f":"VLOOKUP(H8,Sheet_0!G:AJ,29,0)","v":244},288,{"$f":"VLOOKUP(H8,Sheet_0!G:AJ,30,0)","v":288},0.9715,239,{"$f":"VLOOKUP(H8,Sheet_0!G:AM,32,0)","v":239},245,{"$f":"VLOOKUP(H8,Sheet_0!G:AM,33,0)","v":245},1,null,0,0,null,0,0,null,0,0,"\u001d\u001d\u001e\u001e\u001e\u001d\u001c\u001c\u001d\u001c\u001f\u001e\u001d\u001f"]
[202304,12,"2023-04-12","唐山","网络质量","移网网络体验","上网中断、不可用","唐山上网中断、不可用",153,132,2,19,0.9054,67,{"$f":"VLOOKUP(H9,Sheet_0!G:AG,26,0)","v":67},74,{"$f":"VLOOKUP(H9,Sheet_0!G:AG,27,0)","v":74},0.9054,67,74,0.8354,66,{"$f":"VLOOKUP(H9,Sheet_0!G:AJ,29,0)","v":66},79,{"$f":"VLOOKUP(H9,Sheet_0!G:AJ,30,0)","v":79},0.9846,64,{"$f":"VLOOKUP(H9,Sheet_0!G:AM,32,0)","v":64},65,{"$f":"VLOOKUP(H9,Sheet_0!G:AM,33,0)","v":65},0,null,0,0,null,0,0,null,0,0,"\u001d\u001d\u001e\u001e\u001e\u001d\u001c\u001c\u001d\u001c\u001f\u001e\u001d\u001f"]
[202304,12,"2023-04-12","唐山","网络质量","移网网络体验","上网网络卡顿","唐山上网网络卡顿",222,218,3,1,0.9057,96,{"$f":"VLOOKUP(H10,Sheet_0!G:AG,26,0)","v":96},106,{"$f":"VLOOKUP(H10,Sheet_0!G:AG,27,0)","v":106},0.9057,96,106,0.8545,94,{"$f":"VLOOKUP(H10,Sheet_0!G:AJ,29,0)","v":94},110,{"$f":"VLOOKUP(H10,Sheet_0!G:AJ,30,0)","v":110},0.9798,97,{"$f":"VLOOKUP(H10,Sheet_0!G:AM,32,0)","v":97},99,{"$f":"VLOOKUP(H10,Sheet_0!G:AM,33,0)","v":99},0,null,0,0,null,0,0,null,0,0,"\u001d\u001d\u001e\u001e\u001e\u001d\u001c\u001c\u001d\u001c\u001f\u001e\u001d\u001f"]
[202304,12,"2023-04-12","唐山","网络质量","移网网络体验","漫游争议","唐山漫游争议",2,2,0,0,1,1,{"$f":"VLOOKUP(H11,Sheet_0!G:AG,26,0)","v":1},1,{"$f":"VLOOKUP(H11,Sheet_0!G:AG,27,0)","v":1},1,1,1,1,1,{"$f":"VLOOKUP(H11,Sheet_0!G:AJ,29,0)","v":1},1,{"$f":"VLOOKUP(H11,Sheet_0!G:AJ,30,0)","v":1},1,1,{"$f":"VLOOKUP(H11,Sheet_0!G:AM,32,0)","v":1},1,{"$f":"VLOOKUP(H11,Sheet_0!G:AM,33,0)","v":1},0,null,0,0,null,0,0,null,0,0,"\u001d\u001d\u001e\u001e\u001e\u001d\u001c\u001c\u001d\u001c\u001f\u001e\u001d\u001f"]
[202304,12,"2023-04-12","唐山","网络质量","移网网络体验","短信使用问题","唐山短信使用问题",10,7,2,1,1,5,{"$f":"VLOOKUP(H12,Sheet_0!G:AG,26,0)","v":5},5,{"$f":"VLOOKUP(H12,Sheet_0!G:AG,27,0)","v":5},1,5,5,0.6,3,{"$f":"VLOOKUP(H12,Sheet_0!G:AJ,29,0)","v":3},5,{"$f":"VLOOKUP(H12,Sheet_0!G:AJ,30,0)","v":5},1,4,{"$f":"VLOOKUP(H12,Sheet_0!G:AM,32,0)","v":4},4,{"$f":"VLOOKUP(H12,Sheet_0!G:AM,33,0)","v":4},0,null,0,0,null,0,0,null,0,0,"\u001d\u001d\u001e\u001e\u001e\u001d\u001c\u001c\u001d\u001c\u001f\u001e\u001d\u001f"]
[202304,12,"2023-04-12","唐山","网络质量","移网网络体验","语音通信问题","唐山语音通信问题",172,165,4,3,0.9294,79,{"$f":"VLOOKUP(H13,Sheet_0!G:AG,26,0)","v":79},84,{"$f":"VLOOKUP(H13,Sheet_0!G:AG,27,0)","v":84},0.9294,79,84,0.8511,80,{"$f":"VLOOKUP(H13,Sheet_0!G:AJ,29,0)","v":80},93,{"$f":"VLOOKUP(H13,Sheet_0!G:AJ,30,0)","v":93},0.9481,73,{"$f":"VLOOKUP(H13,Sheet_0!G:AM,32,0)","v":73},76,{"$f":"VLOOKUP(H13,Sheet_0!G:AM,33,0)","v":76},1,null,0,0,null,0,0,null,0,0,"\u001d\u001d\u001e\u001e\u001e\u001d\u001c\u001c\u001d\u001c\u001f\u001e\u001d\u001f"]
[202304,12,"2023-04-12","秦皇岛","网络质量","移网网络体验","--","秦皇岛--",215,203,2,10,0.9494,75,{"$f":"VLOOKUP(H14,Sheet_0!G:AG,26,0)","v":75},79,{"$f":"VLOOKUP(H14,Sheet_0!G:AG,27,0)","v":79},0.9494,75,79,0.8916,74,{"$f":"VLOOKUP(H14,Sheet_0!G:AJ,29,0)","v":74},83,{"$f":"VLOOKUP(H14,Sheet_0!G:AJ,30,0)","v":83},0.973,72,{"$f":"VLOOKUP(H14,Sheet_0!G:AM,32,0)","v":72},74,{"$f":"VLOOKUP(H14,Sheet_0!G:AM,33,0)","v":74},0,null,0,0,null,0,0,null,0,0,"\u001d\u001d\u001e\u001e\u001e\u001d\u001c\u001c\u001d\u001c\u001f\u001e\u001d\u001f"]
[202304,12,"2023-04-12","秦皇岛","网络质量","移网网络体验","上网中断、不可用","秦皇岛上网中断、不可用",62,55,0,7,0.8261,19,{"$f":"VLOOKUP(H15,Sheet_0!G:AG,26,0)","v":19},23,{"$f":"VLOOKUP(H15,Sheet_0!G:AG,27,0)","v":23},0.8261,19,23,0.7826,18,{"$f":"VLOOKUP(H15,Sheet_0!G:AJ,29,0)","v":18},23,{"$f":"VLOOKUP(H15,Sheet_0!G:AJ,30,0)","v":23},0.9091,20,{"$f":"VLOOKUP(H15,Sheet_0!G:AM,32,0)","v":20},22,{"$f":"VLOOKUP(H15,Sheet_0!G:AM,33,0)","v":22},0,null,0,0,null,0,0,null,0,0,"\u001d\u001d\u001e\u001e\u001e\u001d\u001c\u001c\u001d\u001c\u001f\u001e\u001d\u001f"]
[202304,12,"2023-04-12","秦皇岛","网络质量","移网网络体验","上网网络卡顿","秦皇岛上网网络卡顿",67,66,1,0,1,18,{"$f":"VLOOKUP(H16,Sheet_0!G:AG,26,0)","v":18},18,{"$f":"VLOOKUP(H16,Sheet_0!G:AG,27,0)","v":18},1,18,18,0.9,18,{"$f":"VLOOKUP(H16,Sheet_0!G:AJ,29,0)","v":18},20,{"$f":"VLOOKUP(H16,Sheet_0!G:AJ,30,0)","v":20},1,16,{"$f":"VLOOKUP(H16,Sheet_0!G:AM,32,0)","v":16},16,{"$f":"VLOOKUP(H16,Sheet_0!G:AM,33,0)","v":16},0,null,0,0,null,0,0,null,0,0,"\u001d\u001d\u001e\u001e\u001e\u001d\u001c\u001c\u001d\u001c\u001f\u001e\u001d\u001f"]
[202304,12,"2023-04-12","秦皇岛","网络质量","移网网络体验","漫游争议","秦皇岛漫游争议",1,1,0,0,1,1,{"$f":"VLOOKUP(H17,Sheet_0!G:AG,26,0)","v":1},1,{"$f":"VLOOKUP(H17,Sheet_0!G:AG,27,0)","v":1},1,1,1,1,1,{"$f":"VLOOKUP(H17,Sheet_0!G:AJ,29,0)","v":1},1,{"$f":"VLOOKUP(H17,Sheet_0!G:AJ,30,0)","v":1},1,1,{"$f":"VLOOKUP(H17,Sheet_0!G:AM,32,0)","v":1},1,{"$f":"VLOOKUP(H17,Sheet_0!G:AM,33,0)","v":1},0,null,0,0,null,0,0,null,0,0,"\u001d\u001d\u001e\u001e\u001e\u001d\u001c\u001c\u001d\u001c\u001f\u001e\u001d\u001f"]
[202304,12,"2023-04-12","秦皇岛","网络质量","移网网络体验","短信使用问题","秦皇岛短信使用问题",7,4,0,3,1,2,{"$f":"VLOOKUP(H18,Sheet_0!G:AG,26,0)","v":2},2,{"$f":"VLOOKUP(H18,Sheet_0!G:AG,27,0)","v":2},1,2,2,0.6667,2,{"$f":"VLOOKUP(H18,Sheet_0!G:AJ,29,0)","v":2},3,{"$f":"VLOOKUP(H18,Sheet_0!G:AJ,30,0)","v":3},1,2,{"$f":"VLOOKUP(H18,Sheet_0!G:AM,32,0)","v":2},2,{"$f":"VLOOKUP(H18,Sheet_0!G:AM,33,0)","v":2},0,null,0,0,null,0,0,null,0,0,"\u001d\u001d\u001e\u001e\u001e\u001d\u001c\u001c\u001d\u001c\u001f\u001e\u001d\u001f"]
[202304,12,"2023-04-12","秦皇岛","网络质量","移网网络体验","语音通信问题","秦皇岛语音通信问题",78,77,1,0,1,35,{"$f":"VLOOKUP(H19,Sheet_0!G:AG,26,0)","v":35},35,{"$f":"VLOOKUP(H19,Sheet_0!G:AG,27,0)","v":35},1,35,35,0.9722,35,{"$f":"VLOOKUP(H19,Sheet_0!G:AJ,29,0)","v":35},36,{"$f":"VLOOKUP(H19,Sheet_0!G:AJ,30,0)","v":36},1,33,{"$f":"VLOOKUP(H19,Sheet_0!G:AM,32,0)","v":33},33,{"$f":"VLOOKUP(H19,Sheet_0!G:AM,33,0)","v":33},0,null,0,0,null,0,0,null,0,0,"\u001d\u001d\u001e\u001e\u001e\u001d\u001c\u001c\u001d\u001c\u001f\u001e\u001d\u001f"]
[202304,12,"2023-04-12","邯郸","网络质量","移网网络体验","--","邯郸--",404,370,6,28,0.9122,187,{"$f":"VLOOKUP(H20,Sheet_0!G:AG,26,0)","v":187},205,{"$f":"VLOOKUP(H20,Sheet_0!G:AG,27,0)","v":205},0.9122,187,205,0.91,192,{"$f":"VLOOKUP(H20,Sheet_0!G:AJ,29,0)","v":192},211,{"$f":"VLOOKUP(H20,Sheet_0!G:AJ,30,0)","v":211},0.9741,188,{"$f":"VLOOKUP(H20,Sheet_0!G:AM,32,0)","v":188},193,{"$f":"VLOOKUP(H20,Sheet_0!G:AM,33,0)","v":193},0,null,0,0,null,0,0,null,0,0,"\u001d\u001d\u001e\u001e\u001e\u001d\u001c\u001c\u001d\u001c\u001f\u001e\u001d\u001f"]
[202304,12,"2023-04-12","邯郸","网络质量","移网网络体验","上网中断、不可用","邯郸上网中断、不可用",119,94,1,24,0.9344,57,{"$f":"VLOOKUP(H21,Sheet_0!G:AG,26,0)","v":57},61,{"$f":"VLOOKUP(H21,Sheet_0!G:AG,27,0)","v":61},0.9344,57,61,0.9194,57,{"$f":"VLOOKUP(H21,Sheet_0!G:AJ,29,0)","v":57},62,{"$f":"VLOOKUP(H21,Sheet_0!G:AJ,30,0)","v":62},0.9828,57,{"$f":"VLOOKUP(H21,Sheet_0!G:AM,32,0)","v":57},58,{"$f":"VLOOKUP(H21,Sheet_0!G:AM,33,0)","v":58},0,null,0,0,null,0,0,null,0,0,"\u001d\u001d\u001e\u001e\u001e\u001d\u001c\u001c\u001d\u001c\u001f\u001e\u001d\u001f"]
[202304,12,"2023-04-12","邯郸","网络质量","移网网络体验","上网网络卡顿","邯郸上网网络卡顿",111,107,3,1,0.8929,50,{"$f":"VLOOKUP(H22,Sheet_0!G:AG,26,0)","v":50},56,{"$f":"VLOOKUP(H22,Sheet_0!G:AG,27,0)","v":56},0.8929,50,56,0.8833,53,{"$f":"VLOOKUP(H22,Sheet_0!G:AJ,29,0)","v":53},60,{"$f":"VLOOKUP(H22,Sheet_0!G:AJ,30,0)","v":60},0.9423,49,{"$f":"VLOOKUP(H22,Sheet_0!G:AM,32,0)","v":49},52,{"$f":"VLOOKUP(H22,Sheet_0!G:AM,33,0)","v":52},0,null,0,0,null,0,0,null,0,0,"\u001d\u001d\u001e\u001e\u001e\u001d\u001c\u001c\u001d\u001c\u001f\u001e\u001d\u001f"]
[202304,12,"2023-04-12","邯郸","网络质量","移网网络体验","漫游争议","邯郸漫游争议",2,2,0,0,null,0,{"$f":"VLOOKUP(H23,Sheet_0!G:AG,26,0)","v":0},0,{"$f":"VLOOKUP(H23,Sheet_0!G:AG,27,0)","v":0},null,0,0,null,0,{"$f":"VLOOKUP(H23,Sheet_0!G:AJ,29,0)","v":0},0,{"$f":"VLOOKUP(H23,Sheet_0!G:AJ,30,0)","v":0},null,0,{"$f":"VLOOKUP(H23,Sheet_0!G:AM,32,0)","v":0},0,{"$f":"VLOOKUP(H23,Sheet_0!G:AM,33,0)","v":0},0,null,0,0,null,0,0,null,0,0,"\u001d\u001d\u001e\u001e\u001e\u001d\u001c\u001c\u001d\u001c\u001f\u001e\u001d\u001f"]
[202304,12,"2023-04-12","邯郸","网络质量","移网网络体验","短信使用问题","邯郸短信使用问题",7,6,1,0,null,0,{"$f":"VLOOKUP(H24,Sheet_0!G:AG,26,0)","v":0},0,{"$f":"VLOOKUP(H24,Sheet_0!G:AG,27,0)","v":0},null,0,0,null,0,{"$f":"VLOOKUP(H24,Sheet_0!G:AJ,29,0)","v":0},0,{"$f":"VLOOKUP(H24,Sheet_0!G:AJ,30,0)","v":0},null,0,{"$f":"VLOOKUP(H24,Sheet_0!G:AM,32,0)","v":0},0,{"$f":"VLOOKUP(H24,Sheet_0!G:AM,33,0)","v":0},0,null,0,0,null,0,0,null,0,0,"\u001d\u001d\u001e\u001e\u001e\u001d\u001c\u001c\u001d\u001c\u001f\u001e\u001d\u001f"]
[202304,12,"2023-04-12","邯郸","网络质量","移网网络体验","语音通信问题","邯郸语音通信问题",165,161,1,3,0.9091,80,{"$f":"VLOOKUP(H25,Sheet_0!G:AG,26,0)","v":80},88,{"$f":"VLOOKUP(H25,Sheet_0!G:AG,27,0)","v":88},0.9091,80,88,0.9213,82,{"$f":"VLOOKUP(H25,Sheet_0!G:AJ,29,0)","v":82},89,{"$f":"VLOOKUP(H25,Sheet_0!G:AJ,30,0)","v":89},0.988,82,{"$f":"VLOOKUP(H25,Sheet_0!G:AM,32,0)","v":82},83,{"$f":"VLOOKUP(H25,Sheet_0!G:AM,33,0)","v":83},0,null,0,0,null,0,0,null,0,0,"\u001d\u001d\u001e\u001e\u001e\u001d\u001c\u001c\u001d\u001c\u001f\u001e\u001d\u001f"]
[202304,12,"2023-04-12","邢台","网络质量","移网网络体验","--","邢台--",259,225,6,28,0.9573,112,{"$f":"VLOOKUP(H26,Sheet_0!G:AG,26,0)","v":112},117,{"$f":"VLOOKUP(H26,Sheet_0!G:AG,27,0)","v":117},0.9573,112,117,0.8846,115,{"$f":"VLOOKUP(H26,Sheet_0!G:AJ,29,0)","v":115},130,{"$f":"VLOOKUP(H26,Sheet_0!G:AJ,30,0)","v":130},0.9817,107,{"$f":"VLOOKUP(H26,Sheet_0!G:AM,32,0)","v":107},109,{"$f":"VLOOKUP(H26,Sheet_0!G:AM,33,0)","v":109},0,null,0,0,null,0,0,null,0,0,"\u001d\u001d\u001e\u001e\u001e\u001d\u001c\u001c\u001d\u001c\u001f\u001e\u001d\u001f"]
[202304,12,"2023-04-12","邢台","网络质量","移网网络体验","上网中断、不可用","邢台上网中断、不可用",79,57,1,21,0.9231,36,{"$f":"VLOOKUP(H27,Sheet_0!G:AG,26,0)","v":36},39,{"$f":"VLOOKUP(H27,Sheet_0!G:AG,27,0)","v":39},0.9231,36,39,0.7857,33,{"$f":"VLOOKUP(H27,Sheet_0!G:AJ,29,0)","v":33},42,{"$f":"VLOOKUP(H27,Sheet_0!G:AJ,30,0)","v":42},0.9714,34,{"$f":"VLOOKUP(H27,Sheet_0!G:AM,32,0)","v":34},35,{"$f":"VLOOKUP(H27,Sheet_0!G:AM,33,0)","v":35},0,null,0,0,null,0,0,null,0,0,"\u001d\u001d\u001e\u001e\u001e\u001d\u001c\u001c\u001d\u001c\u001f\u001e\u001d\u001f"]
[202304,12,"2023-04-12","邢台","网络质量","移网网络体验","上网网络卡顿","邢台上网网络卡顿",76,71,3,2,1,28,{"$f":"VLOOKUP(H28,Sheet_0!G:AG,26,0)","v":28},28,{"$f":"VLOOKUP(H28,Sheet_0!G:AG,27,0)","v":28},1,28,28,1,37,{"$f":"VLOOKUP(H28,Sheet_0!G:AJ,29,0)","v":37},37,{"$f":"VLOOKUP(H28,Sheet_0!G:AJ,30,0)","v":37},1,25,{"$f":"VLOOKUP(H28,Sheet_0!G:AM,32,0)","v":25},25,{"$f":"VLOOKUP(H28,Sheet_0!G:AM,33,0)","v":25},0,null,0,0,null,0,0,null,0,0,"\u001d\u001d\u001e\u001e\u001e\u001d\u001c\u001c\u001d\u001c\u001f\u001e\u001d\u001f"]
[202304,12,"2023-04-12","邢台","网络质量","移网网络体验","短信使用问题","邢台短信使用问题",7,4,2,1,null,0,{"$f":"VLOOKUP(H29,Sheet_0!G:AG,26,0)","v":0},0,{"$f":"VLOOKUP(H29,Sheet_0!G:AG,27,0)","v":0},null,0,0,null,0,{"$f":"VLOOKUP(H29,Sheet_0!G:AJ,29,0)","v":0},0,{"$f":"VLOOKUP(H29,Sheet_0!G:AJ,30,0)","v":0},null,0,{"$f":"VLOOKUP(H29,Sheet_0!G:AM,32,0)","v":0},0,{"$f":"VLOOKUP(H29,Sheet_0!G:AM,33,0)","v":0},0,null,0,0,null,0,0,null,0,0,"\u001d\u001d\u001e\u001e\u001e\u001d\u001c\u001c\u001d\u001c\u001f\u001e\u001d\u001f"]
[202304,12,"2023-04-12","邢台","网络质量","移网网络体验","语音通信问题","邢台语音通信问题",97,93,0,4,0.96,48,{"$f":"VLOOKUP(H30,Sheet_0!G:AG,26,0)","v":48},50,{"$f":"VLOOKUP(H30,Sheet_0!G:AG,27,0)","v":50},0.96,48,50,0.8824,45,{"$f":"VLOOKUP(H30,Sheet_0!G:AJ,29,0)","v":45},51,{"$f":"VLOOKUP(H30,Sheet_0!G:AJ,30,0)","v":51},0.9796,48,{"$f":"VLOOKUP(H30,Sheet_0!G:AM,32,0)","v":48},49,{"$f":"VLOOKUP(H30,Sheet_0!G:AM,33,0)","v":49},0,null,0,0,null,0,0,null,0,0,"\u001d\u001d\u001e\u001e\u001e\u001d\u001c\u001c\u001d\u001c\u001f\u001e\u001d\u001f"]
[202304,12,"2023-04-12","保定","网络质量","移网网络体验","--","保定--",480,433,17,30,0.9231,156,{"$f":"VLOOKUP(H31,Sheet_0!G:AG,26,0)","v":156},168,{"$f":"VLOOKUP(H31,Sheet_0!G:AG,27,0)","v":168},0.9231,156,168,0.883,166,{"$f":"VLOOKUP(H31,Sheet_0!G:AJ,29,0)","v":166},187,{"$f":"VLOOKUP(H31,Sheet_0!G:AJ,30,0)","v":187},0.9632,157,{"$f":"VLOOKUP(H31,Sheet_0!G:AM,32,0)","v":157},162,{"$f":"VLOOKUP(H31,Sheet_0!G:AM,33,0)","v":162},1,null,0,0,null,0,0,null,0,0,"\u001d\u001d\u001e\u001e\u001e\u001d\u001c\u001c\u001d\u001c\u001f\u001e\u001d\u001f"]
[202304,12,"2023-04-12","保定","网络质量","移网网络体验","上网中断、不可用","保定上网中断、不可用",108,81,2,25,0.8974,35,{"$f":"VLOOKUP(H32,Sheet_0!G:AG,26,0)","v":35},39,{"$f":"VLOOKUP(H32,Sheet_0!G:AG,27,0)","v":39},0.8974,35,39,0.925,37,{"$f":"VLOOKUP(H32,Sheet_0!G:AJ,29,0)","v":37},40,{"$f":"VLOOKUP(H32,Sheet_0!G:AJ,30,0)","v":40},0.9189,34,{"$f":"VLOOKUP(H32,Sheet_0!G:AM,32,0)","v":34},37,{"$f":"VLOOKUP(H32,Sheet_0!G:AM,33,0)","v":37},0,null,0,0,null,0,0,null,0,0,"\u001d\u001d\u001e\u001e\u001e\u001d\u001c\u001c\u001d\u001c\u001f\u001e\u001d\u001f"]
[202304,12,"2023-04-12","保定","网络质量","移网网络体验","上网网络卡顿","保定上网网络卡顿",170,165,4,1,0.9672,59,{"$f":"VLOOKUP(H33,Sheet_0!G:AG,26,0)","v":59},61,{"$f":"VLOOKUP(H33,Sheet_0!G:AG,27,0)","v":61},0.9672,59,61,0.942,65,{"$f":"VLOOKUP(H33,Sheet_0!G:AJ,29,0)","v":65},69,{"$f":"VLOOKUP(H33,Sheet_0!G:AJ,30,0)","v":69},1,60,{"$f":"VLOOKUP(H33,Sheet_0!G:AM,32,0)","v":60},60,{"$f":"VLOOKUP(H33,Sheet_0!G:AM,33,0)","v":60},0,null,0,0,null,0,0,null,0,0,"\u001d\u001d\u001e\u001e\u001e\u001d\u001c\u001c\u001d\u001c\u001f\u001e\u001d\u001f"]
[202304,12,"2023-04-12","保定","网络质量","移网网络体验","漫游争议","保定漫游争议",1,1,0,0,1,1,{"$f":"VLOOKUP(H34,Sheet_0!G:AG,26,0)","v":1},1,{"$f":"VLOOKUP(H34,Sheet_0!G:AG,27,0)","v":1},1,1,1,1,1,{"$f":"VLOOKUP(H34,Sheet_0!G:AJ,29,0)","v":1},1,{"$f":"VLOOKUP(H34,Sheet_0!G:AJ,30,0)","v":1},1,1,{"$f":"VLOOKUP(H34,Sheet_0!G:AM,32,0)","v":1},1,{"$f":"VLOOKUP(H34,Sheet_0!G:AM,33,0)","v":1},0,null,0,0,null,0,0,null,0,0,"\u001d\u001d\u001e\u001e\u001e\u001d\u001c\u001c\u001d\u001c\u001f\u001e\u001d\u001f"]
[202304,12,"2023-04-12","保定","网络质量","移网网络体验","短信使用问题",{"$f":"D35&G35","v":"保定短信使用问题"},13,7,5,1,1,1,{"$f":"VLOOKUP(H35,Sheet_0!G:AG,26,0)","v":1},1,{"$f":"VLOOKUP(H35,Sheet_0!G:AG,27,0)","v":1},1,1,1,1,2,{"$f":"VLOOKUP(H35,Sheet_0!G:AJ,29,0)","v":2},2,{"$f":"VLOOKUP(H35,Sheet_0!G:AJ,30,0)","v":2},1,1,{"$f":"VLOOKUP(H35,Sheet_0!G:AM,32,0)","v":1},1,{"$f":"VLOOKUP(H35,Sheet_0!G:AM,33,0)","v":1},0,null,0,0,null,0,0,null,0,0,"\u001d\u001d\u001e\u001e\u001e\u001d\u001c\u001c\u001d\u001c\u001f\u001e\u001d\u001f"]
[202304,12,"2023-04-12","保定","网络质量","移网网络体验","语音通信问题","保定语音通信问题",188,179,6,3,0.8955,60,{"$f":"VLOOKUP(H36,Sheet_0!G:AG,26,0)","v":60},66,{"$f":"VLOOKUP(H36,Sheet_0!G:AG,27,0)","v":66},0.8955,60,66,0.8026,61,{"$f":"VLOOKUP(H36,Sheet_0!G:AJ,29,0)","v":61},75,{"$f":"VLOOKUP(H36,Sheet_0!G:AJ,30,0)","v":75},0.9531,61,{"$f":"VLOOKUP(H36,Sheet_0!G:AM,32,0)","v":61},63,{"$f":"VLOOKUP(H36,Sheet_0!G:AM,33,0)","v":63},1,null,0,0,null,0,0,null,0,0,"\u001d\u001d\u001e\u001e\u001e\u001d\u001c\u001c\u001d\u001c\u001f\u001e\u001d\u001f"]
[202304,12,"2023-04-12","张家口","网络质量","移网网络体验","--","张家口--",193,174,6,13,0.8793,51,{"$f":"VLOOKUP(H37,Sheet_0!G:AG,26,0)","v":51},58,{"$f":"VLOOKUP(H37,Sheet_0!G:AG,27,0)","v":58},0.8793,51,58,0.8548,53,{"$f":"VLOOKUP(H37,Sheet_0!G:AJ,29,0)","v":53},62,{"$f":"VLOOKUP(H37,Sheet_0!G:AJ,30,0)","v":62},0.9474,54,{"$f":"VLOOKUP(H37,Sheet_0!G:AM,32,0)","v":54},57,{"$f":"VLOOKUP(H37,Sheet_0!G:AM,33,0)","v":57},0,null,0,0,null,0,0,null,0,0,"\u001d\u001d\u001e\u001e\u001e\u001d\u001c\u001c\u001d\u001c\u001f\u001e\u001d\u001f"]
[202304,12,"2023-04-12","张家口","网络质量","移网网络体验","上网中断、不可用","张家口上网中断、不可用",59,47,0,12,1,18,{"$f":"VLOOKUP(H38,Sheet_0!G:AG,26,0)","v":18},18,{"$f":"VLOOKUP(H38,Sheet_0!G:AG,27,0)","v":18},1,18,18,1,18,{"$f":"VLOOKUP(H38,Sheet_0!G:AJ,29,0)","v":18},18,{"$f":"VLOOKUP(H38,Sheet_0!G:AJ,30,0)","v":18},1,18,{"$f":"VLOOKUP(H38,Sheet_0!G:AM,32,0)","v":18},18,{"$f":"VLOOKUP(H38,Sheet_0!G:AM,33,0)","v":18},0,null,0,0,null,0,0,null,0,0,"\u001d\u001d\u001e\u001e\u001e\u001d\u001c\u001c\u001d\u001c\u001f\u001e\u001d\u001f"]
[202304,12,"2023-04-12","张家口","网络质量","移网网络体验","上网网络卡顿","张家口上网网络卡顿",47,42,4,1,0.8125,13,{"$f":"VLOOKUP(H39,Sheet_0!G:AG,26,0)","v":13},16,{"$f":"VLOOKUP(H39,Sheet_0!G:AG,27,0)","v":16},0.8125,13,16,0.8235,14,{"$f":"VLOOKUP(H39,Sheet_0!G:AJ,29,0)","v":14},17,{"$f":"VLOOKUP(H39,Sheet_0!G:AJ,30,0)","v":17},0.9375,15,{"$f":"VLOOKUP(H39,Sheet_0!G:AM,32,0)","v":15},16,{"$f":"VLOOKUP(H39,Sheet_0!G:AM,33,0)","v":16},0,null,0,0,null,0,0,null,0,0,"\u001d\u001d\u001e\u001e\u001e\u001d\u001c\u001c\u001d\u001c\u001f\u001e\u001d\u001f"]
[202304,12,"2023-04-12","张家口","网络质量","移网网络体验","漫游争议","张家口漫游争议",1,1,0,0,1,1,{"$f":"VLOOKUP(H40,Sheet_0!G:AG,26,0)","v":1},1,{"$f":"VLOOKUP(H40,Sheet_0!G:AG,27,0)","v":1},1,1,1,1,1,{"$f":"VLOOKUP(H40,Sheet_0!G:AJ,29,0)","v":1},1,{"$f":"VLOOKUP(H40,Sheet_0!G:AJ,30,0)","v":1},1,1,{"$f":"VLOOKUP(H40,Sheet_0!G:AM,32,0)","v":1},1,{"$f":"VLOOKUP(H40,Sheet_0!G:AM,33,0)","v":1},0,null,0,0,null,0,0,null,0,0,"\u001d\u001d\u001e\u001e\u001e\u001d\u001c\u001c\u001d\u001c\u001f\u001e\u001d\u001f"]
[202304,12,"2023-04-12","张家口","网络质量","移网网络体验","短信使用问题","张家口短信使用问题",4,4,0,0,1,2,{"$f":"VLOOKUP(H41,Sheet_0!G:AG,26,0)","v":2},2,{"$f":"VLOOKUP(H41,Sheet_0!G:AG,27,0)","v":2},1,2,2,0.5,1,{"$f":"VLOOKUP(H41,Sheet_0!G:AJ,29,0)","v":1},2,{"$f":"VLOOKUP(H41,Sheet_0!G:AJ,30,0)","v":2},1,2,{"$f":"VLOOKUP(H41,Sheet_0!G:AM,32,0)","v":2},2,{"$f":"VLOOKUP(H41,Sheet_0!G:AM,33,0)","v":2},0,null,0,0,null,0,0,null,0,0,"\u001d\u001d\u001e\u001e\u001e\u001d\u001c\u001c\u001d\u001c\u001f\u001e\u001d\u001f"]
[202304,12,"2023-04-12","张家口","网络质量","移网网络体验","语音通信问题","张家口语音通信问题",82,80,2,0,0.8095,17,{"$f":"VLOOKUP(H42,Sheet_0!G:AG,26,0)","v":17},21,{"$f":"VLOOKUP(H42,Sheet_0!G:AG,27,0)","v":21},0.8095,17,21,0.7917,19,{"$f":"VLOOKUP(H42,Sheet_0!G:AJ,29,0)","v":19},24,{"$f":"VLOOKUP(H42,Sheet_0!G:AJ,30,0)","v":24},0.9,18,{"$f":"VLOOKUP(H42,Sheet_0!G:AM,32,0)","v":18},20,{"$f":"VLOOKUP(H42,Sheet_0!G:AM,33,0)","v":20},0,null,0,0,null,0,0,null,0,0,"\u001d\u001d\u001e\u001e\u001e\u001d\u001c\u001c\u001d\u001c\u001f\u001e\u001d\u001f"]
[202304,12,"2023-04-12","承德","网络质量","移网网络体验","--","承德--",241,230,2,9,0.9375,90,{"$f":"VLOOKUP(H43,Sheet_0!G:AG,26,0)","v":90},96,{"$f":"VLOOKUP(H43,Sheet_0!G:AG,27,0)","v":96},0.9375,90,96,0.8911,90,{"$f":"VLOOKUP(H43,Sheet_0!G:AJ,29,0)","v":90},101,{"$f":"VLOOKUP(H43,Sheet_0!G:AJ,30,0)","v":101},0.9762,82,{"$f":"VLOOKUP(H43,Sheet_0!G:AM,32,0)","v":82},84,{"$f":"VLOOKUP(H43,Sheet_0!G:AM,33,0)","v":84},0,null,0,0,null,0,0,null,0,0,"\u001d\u001d\u001e\u001e\u001e\u001d\u001c\u001c\u001d\u001c\u001f\u001e\u001d\u001f"]
[202304,12,"2023-04-12","承德","网络质量","移网网络体验","上网中断、不可用","承德上网中断、不可用",69,61,1,7,0.9429,33,{"$f":"VLOOKUP(H44,Sheet_0!G:AG,26,0)","v":33},35,{"$f":"VLOOKUP(H44,Sheet_0!G:AG,27,0)","v":35},0.9429,33,35,0.9189,34,{"$f":"VLOOKUP(H44,Sheet_0!G:AJ,29,0)","v":34},37,{"$f":"VLOOKUP(H44,Sheet_0!G:AJ,30,0)","v":37},0.9677,30,{"$f":"VLOOKUP(H44,Sheet_0!G:AM,32,0)","v":30},31,{"$f":"VLOOKUP(H44,Sheet_0!G:AM,33,0)","v":31},0,null,0,0,null,0,0,null,0,0,"\u001d\u001d\u001e\u001e\u001e\u001d\u001c\u001c\u001d\u001c\u001f\u001e\u001d\u001f"]
[202304,12,"2023-04-12","承德","网络质量","移网网络体验","上网网络卡顿","承德上网网络卡顿",67,66,0,1,1,19,{"$f":"VLOOKUP(H45,Sheet_0!G:AG,26,0)","v":19},19,{"$f":"VLOOKUP(H45,Sheet_0!G:AG,27,0)","v":19},1,19,19,0.9,18,{"$f":"VLOOKUP(H45,Sheet_0!G:AJ,29,0)","v":18},20,{"$f":"VLOOKUP(H45,Sheet_0!G:AJ,30,0)","v":20},1,16,{"$f":"VLOOKUP(H45,Sheet_0!G:AM,32,0)","v":16},16,{"$f":"VLOOKUP(H45,Sheet_0!G:AM,33,0)","v":16},0,null,0,0,null,0,0,null,0,0,"\u001d\u001d\u001e\u001e\u001e\u001d\u001c\u001c\u001d\u001c\u001f\u001e\u001d\u001f"]
[202304,12,"2023-04-12","承德","网络质量","移网网络体验","短信使用问题","承德短信使用问题",1,1,0,0,1,1,{"$f":"VLOOKUP(H46,Sheet_0!G:AG,26,0)","v":1},1,{"$f":"VLOOKUP(H46,Sheet_0!G:AG,27,0)","v":1},1,1,1,1,1,{"$f":"VLOOKUP(H46,Sheet_0!G:AJ,29,0)","v":1},1,{"$f":"VLOOKUP(H46,Sheet_0!G:AJ,30,0)","v":1},1,1,{"$f":"VLOOKUP(H46,Sheet_0!G:AM,32,0)","v":1},1,{"$f":"VLOOKUP(H46,Sheet_0!G:AM,33,0)","v":1},0,null,0,0,null,0,0,null,0,0,"\u001d\u001d\u001e\u001e\u001e\u001d\u001c\u001c\u001d\u001c\u001f\u001e\u001d\u001f"]
[202304,12,"2023-04-12","承德","网络质量","移网网络体验","语音通信问题","承德语音通信问题",104,102,1,1,0.9024,37,{"$f":"VLOOKUP(H47,Sheet_0!G:AG,26,0)","v":37},41,{"$f":"VLOOKUP(H47,Sheet_0!G:AG,27,0)","v":41},0.9024,37,41,0.8605,37,{"$f":"VLOOKUP(H47,Sheet_0!G:AJ,29,0)","v":37},43,{"$f":"VLOOKUP(H47,Sheet_0!G:AJ,30,0)","v":43},0.9722,35,{"$f":"VLOOKUP(H47,Sheet_0!G:AM,32,0)","v":35},36,{"$f":"VLOOKUP(H47,Sheet_0!G:AM,33,0)","v":36},0,null,0,0,null,0,0,null,0,0,"\u001d\u001d\u001e\u001e\u001e\u001d\u001c\u001c\u001d\u001c\u001f\u001e\u001d\u001f"]
[202304,12,"2023-04-12","廊坊","网络质量","移网网络体验","--","廊坊--",400,365,13,22,0.9497,170,{"$f":"VLOOKUP(H48,Sheet_0!G:AG,26,0)","v":170},179,{"$f":"VLOOKUP(H48,Sheet_0!G:AG,27,0)","v":179},0.9497,170,179,0.849,163,{"$f":"VLOOKUP(H48,Sheet_0!G:AJ,29,0)","v":163},192,{"$f":"VLOOKUP(H48,Sheet_0!G:AJ,30,0)","v":192},0.9882,167,{"$f":"VLOOKUP(H48,Sheet_0!G:AM,32,0)","v":167},169,{"$f":"VLOOKUP(H48,Sheet_0!G:AM,33,0)","v":169},0,null,0,0,null,0,0,null,0,0,"\u001d\u001d\u001e\u001e\u001e\u001d\u001c\u001c\u001d\u001c\u001f\u001e\u001d\u001f"]
[202304,12,"2023-04-12","廊坊","网络质量","移网网络体验","上网中断、不可用","廊坊上网中断、不可用",105,87,2,16,1,37,{"$f":"VLOOKUP(H49,Sheet_0!G:AG,26,0)","v":37},37,{"$f":"VLOOKUP(H49,Sheet_0!G:AG,27,0)","v":37},1,37,37,0.8182,36,{"$f":"VLOOKUP(H49,Sheet_0!G:AJ,29,0)","v":36},44,{"$f":"VLOOKUP(H49,Sheet_0!G:AJ,30,0)","v":44},0.9722,35,{"$f":"VLOOKUP(H49,Sheet_0!G:AM,32,0)","v":35},36,{"$f":"VLOOKUP(H49,Sheet_0!G:AM,33,0)","v":36},0,null,0,0,null,0,0,null,0,0,"\u001d\u001d\u001e\u001e\u001e\u001d\u001c\u001c\u001d\u001c\u001f\u001e\u001d\u001f"]
[202304,12,"2023-04-12","廊坊","网络质量","移网网络体验","上网网络卡顿","廊坊上网网络卡顿",133,125,6,2,0.8986,62,{"$f":"VLOOKUP(H50,Sheet_0!G:AG,26,0)","v":62},69,{"$f":"VLOOKUP(H50,Sheet_0!G:AG,27,0)","v":69},0.8986,62,69,0.9014,64,{"$f":"VLOOKUP(H50,Sheet_0!G:AJ,29,0)","v":64},71,{"$f":"VLOOKUP(H50,Sheet_0!G:AJ,30,0)","v":71},1,62,{"$f":"VLOOKUP(H50,Sheet_0!G:AM,32,0)","v":62},62,{"$f":"VLOOKUP(H50,Sheet_0!G:AM,33,0)","v":62},0,null,0,0,null,0,0,null,0,0,"\u001d\u001d\u001e\u001e\u001e\u001d\u001c\u001c\u001d\u001c\u001f\u001e\u001d\u001f"]
[202304,12,"2023-04-12","廊坊","网络质量","移网网络体验","短信使用问题","廊坊短信使用问题",7,1,3,3,1,2,{"$f":"VLOOKUP(H51,Sheet_0!G:AG,26,0)","v":2},2,{"$f":"VLOOKUP(H51,Sheet_0!G:AG,27,0)","v":2},1,2,2,1,3,{"$f":"VLOOKUP(H51,Sheet_0!G:AJ,29,0)","v":3},3,{"$f":"VLOOKUP(H51,Sheet_0!G:AJ,30,0)","v":3},1,2,{"$f":"VLOOKUP(H51,Sheet_0!G:AM,32,0)","v":2},2,{"$f":"VLOOKUP(H51,Sheet_0!G:AM,33,0)","v":2},0,null,0,0,null,0,0,null,0,0,"\u001d\u001d\u001e\u001e\u001e\u001d\u001c\u001c\u001d\u001c\u001f\u001e\u001d\u001f"]
[202304,12,"2023-04-12","廊坊","网络质量","移网网络体验","语音通信问题","廊坊语音通信问题",155,152,2,1,0.9718,69,{"$f":"VLOOKUP(H52,Sheet_0!G:AG,26,0)","v":69},71,{"$f":"VLOOKUP(H52,Sheet_0!G:AG,27,0)","v":71},0.9718,69,71,0.8108,60,{"$f":"VLOOKUP(H52,Sheet_0!G:AJ,29,0)","v":60},74,{"$f":"VLOOKUP(H52,Sheet_0!G:AJ,30,0)","v":74},0.9855,68,{"$f":"VLOOKUP(H52,Sheet_0!G:AM,32,0)","v":68},69,{"$f":"VLOOKUP(H52,Sheet_0!G:AM,33,0)","v":69},0,null,0,0,null,0,0,null,0,0,"\u001d\u001d\u001e\u001e\u001e\u001d\u001c\u001c\u001d\u001c\u001f\u001e\u001d\u001f"]
[202304,12,"2023-04-12","沧州","网络质量","移网网络体验","--","沧州--",605,576,11,18,0.9039,254,{"$f":"VLOOKUP(H53,Sheet_0!G:AG,26,0)","v":254},281,{"$f":"VLOOKUP(H53,Sheet_0!G:AG,27,0)","v":281},0.9039,254,281,0.852,259,{"$f":"VLOOKUP(H53,Sheet_0!G:AJ,29,0)","v":259},304,{"$f":"VLOOKUP(H53,Sheet_0!G:AJ,30,0)","v":304},0.966,256,{"$f":"VLOOKUP(H53,Sheet_0!G:AM,32,0)","v":256},265,{"$f":"VLOOKUP(H53,Sheet_0!G:AM,33,0)","v":265},0,null,0,0,null,0,0,null,0,0,"\u001d\u001d\u001e\u001e\u001e\u001d\u001c\u001c\u001d\u001c\u001f\u001e\u001d\u001f"]
[202304,12,"2023-04-12","沧州","网络质量","移网网络体验","上网中断、不可用","沧州上网中断、不可用",133,116,3,14,0.9077,59,{"$f":"VLOOKUP(H54,Sheet_0!G:AG,26,0)","v":59},65,{"$f":"VLOOKUP(H54,Sheet_0!G:AG,27,0)","v":65},0.9077,59,65,0.9014,64,{"$f":"VLOOKUP(H54,Sheet_0!G:AJ,29,0)","v":64},71,{"$f":"VLOOKUP(H54,Sheet_0!G:AJ,30,0)","v":71},1,59,{"$f":"VLOOKUP(H54,Sheet_0!G:AM,32,0)","v":59},59,{"$f":"VLOOKUP(H54,Sheet_0!G:AM,33,0)","v":59},0,null,0,0,null,0,0,null,0,0,"\u001d\u001d\u001e\u001e\u001e\u001d\u001c\u001c\u001d\u001c\u001f\u001e\u001d\u001f"]
[202304,12,"2023-04-12","沧州","网络质量","移网网络体验","上网网络卡顿","沧州上网网络卡顿",148,147,1,0,0.9333,70,{"$f":"VLOOKUP(H55,Sheet_0!G:AG,26,0)","v":70},75,{"$f":"VLOOKUP(H55,Sheet_0!G:AG,27,0)","v":75},0.9333,70,75,0.939,77,{"$f":"VLOOKUP(H55,Sheet_0!G:AJ,29,0)","v":77},82,{"$f":"VLOOKUP(H55,Sheet_0!G:AJ,30,0)","v":82},0.9583,69,{"$f":"VLOOKUP(H55,Sheet_0!G:AM,32,0)","v":69},72,{"$f":"VLOOKUP(H55,Sheet_0!G:AM,33,0)","v":72},0,null,0,0,null,0,0,null,0,0,"\u001d\u001d\u001e\u001e\u001e\u001d\u001c\u001c\u001d\u001c\u001f\u001e\u001d\u001f"]
[202304,12,"2023-04-12","沧州","网络质量","移网网络体验","短信使用问题","沧州短信使用问题",10,7,2,1,0.3333,1,{"$f":"VLOOKUP(H56,Sheet_0!G:AG,26,0)","v":1},3,{"$f":"VLOOKUP(H56,Sheet_0!G:AG,27,0)","v":3},0.3333,1,3,0.3333,1,{"$f":"VLOOKUP(H56,Sheet_0!G:AJ,29,0)","v":1},3,{"$f":"VLOOKUP(H56,Sheet_0!G:AJ,30,0)","v":3},0.3333,1,{"$f":"VLOOKUP(H56,Sheet_0!G:AM,32,0)","v":1},3,{"$f":"VLOOKUP(H56,Sheet_0!G:AM,33,0)","v":3},0,null,0,0,null,0,0,null,0,0,"\u001d\u001d\u001e\u001e\u001e\u001d\u001c\u001c\u001d\u001c\u001f\u001e\u001d\u001f"]
[202304,12,"2023-04-12","沧州","网络质量","移网网络体验","语音通信问题","沧州语音通信问题",314,306,5,3,0.8986,124,{"$f":"VLOOKUP(H57,Sheet_0!G:AG,26,0)","v":124},138,{"$f":"VLOOKUP(H57,Sheet_0!G:AG,27,0)","v":138},0.8986,124,138,0.7905,117,{"$f":"VLOOKUP(H57,Sheet_0!G:AJ,29,0)","v":117},148,{"$f":"VLOOKUP(H57,Sheet_0!G:AJ,30,0)","v":148},0.9695,127,{"$f":"VLOOKUP(H57,Sheet_0!G:AM,32,0)","v":127},131,{"$f":"VLOOKUP(H57,Sheet_0!G:AM,33,0)","v":131},0,null,0,0,null,0,0,null,0,0,"\u001d\u001d\u001e\u001e\u001e\u001d\u001c\u001c\u001d\u001c\u001f\u001e\u001d\u001f"]
[202304,12,"2023-04-12","衡水","网络质量","移网网络体验","--","衡水--",230,210,2,18,0.9242,61,{"$f":"VLOOKUP(H58,Sheet_0!G:AG,26,0)","v":61},65,{"$f":"VLOOKUP(H58,Sheet_0!G:AG,27,0)","v":65},0.9242,61,65,0.8841,61,{"$f":"VLOOKUP(H58,Sheet_0!G:AJ,29,0)","v":61},68,{"$f":"VLOOKUP(H58,Sheet_0!G:AJ,30,0)","v":68},0.9688,62,{"$f":"VLOOKUP(H58,Sheet_0!G:AM,32,0)","v":62},63,{"$f":"VLOOKUP(H58,Sheet_0!G:AM,33,0)","v":63},1,null,0,0,null,0,0,null,0,0,"\u001d\u001d\u001e\u001e\u001e\u001d\u001c\u001c\u001d\u001c\u001f\u001e\u001d\u001f"]
[202304,12,"2023-04-12","衡水","网络质量","移网网络体验","上网中断、不可用","衡水上网中断、不可用",69,52,0,17,1,22,{"$f":"VLOOKUP(H59,Sheet_0!G:AG,26,0)","v":22},22,{"$f":"VLOOKUP(H59,Sheet_0!G:AG,27,0)","v":22},1,22,22,0.9583,23,{"$f":"VLOOKUP(H59,Sheet_0!G:AJ,29,0)","v":23},24,{"$f":"VLOOKUP(H59,Sheet_0!G:AJ,30,0)","v":24},1,21,{"$f":"VLOOKUP(H59,Sheet_0!G:AM,32,0)","v":21},21,{"$f":"VLOOKUP(H59,Sheet_0!G:AM,33,0)","v":21},0,null,0,0,null,0,0,null,0,0,"\u001d\u001d\u001e\u001e\u001e\u001d\u001c\u001c\u001d\u001c\u001f\u001e\u001d\u001f"]
[202304,12,"2023-04-12","衡水","网络质量","移网网络体验","上网网络卡顿","衡水上网网络卡顿",82,80,2,0,0.9524,20,{"$f":"VLOOKUP(H60,Sheet_0!G:AG,26,0)","v":20},21,{"$f":"VLOOKUP(H60,Sheet_0!G:AG,27,0)","v":21},0.9524,20,21,0.9,18,{"$f":"VLOOKUP(H60,Sheet_0!G:AJ,29,0)","v":18},20,{"$f":"VLOOKUP(H60,Sheet_0!G:AJ,30,0)","v":20},1,21,{"$f":"VLOOKUP(H60,Sheet_0!G:AM,32,0)","v":21},21,{"$f":"VLOOKUP(H60,Sheet_0!G:AM,33,0)","v":21},0,null,0,0,null,0,0,null,0,0,"\u001d\u001d\u001e\u001e\u001e\u001d\u001c\u001c\u001d\u001c\u001f\u001e\u001d\u001f"]
[202304,12,"2023-04-12","衡水","网络质量","移网网络体验","短信使用问题","衡水短信使用问题",4,3,0,1,null,0,{"$f":"VLOOKUP(H61,Sheet_0!G:AG,26,0)","v":0},0,{"$f":"VLOOKUP(H61,Sheet_0!G:AG,27,0)","v":0},null,0,0,null,0,{"$f":"VLOOKUP(H61,Sheet_0!G:AJ,29,0)","v":0},0,{"$f":"VLOOKUP(H61,Sheet_0!G:AJ,30,0)","v":0},null,0,{"$f":"VLOOKUP(H61,Sheet_0!G:AM,32,0)","v":0},0,{"$f":"VLOOKUP(H61,Sheet_0!G:AM,33,0)","v":0},0,null,0,0,null,0,0,null,0,0,"\u001d\u001d\u001e\u001e\u001e\u001d\u001c\u001c\u001d\u001c\u001f\u001e\u001d\u001f"]
[202304,12,"2023-04-12","衡水","网络质量","移网网络体验","语音通信问题","衡水语音通信问题",75,75,0,0,0.8261,19,{"$f":"VLOOKUP(H62,Sheet_0!G:AG,26,0)","v":19},22,{"$f":"VLOOKUP(H62,Sheet_0!G:AG,27,0)","v":22},0.8261,19,22,0.8,20,{"$f":"VLOOKUP(H62,Sheet_0!G:AJ,29,0)","v":20},24,{"$f":"VLOOKUP(H62,Sheet_0!G:AJ,30,0)","v":24},0.9091,20,{"$f":"VLOOKUP(H62,Sheet_0!G:AM,32,0)","v":20},21,{"$f":"VLOOKUP(H62,Sheet_0!G:AM,33,0)","v":21},1,null,0,0,null,0,0,null,0,0,"\u001d\u001d\u001e\u001e\u001e\u001d\u001c\u001c\u001d\u001c\u001f\u001e\u001d\u001f"]
[202304,12,"2023-04-12","雄安新区","网络质量","移网网络体验","--","雄安新区--",81,74,1,6,0.8378,31,{"$f":"VLOOKUP(H63,Sheet_0!G:AG,26,0)","v":31},35,{"$f":"VLOOKUP(H63,Sheet_0!G:AG,27,0)","v":35},0.8378,31,35,0.7838,29,{"$f":"VLOOKUP(H63,Sheet_0!G:AJ,29,0)","v":29},35,{"$f":"VLOOKUP(H63,Sheet_0!G:AJ,30,0)","v":35},0.8857,31,{"$f":"VLOOKUP(H63,Sheet_0!G:AM,32,0)","v":31},33,{"$f":"VLOOKUP(H63,Sheet_0!G:AM,33,0)","v":33},2,null,0,0,null,0,0,null,0,0,"\u001d\u001d\u001e\u001e\u001e\u001d\u001c\u001c\u001d\u001c\u001f\u001e\u001d\u001f"]
[202304,12,"2023-04-12","雄安新区","网络质量","移网网络体验","上网中断、不可用","雄安新区上网中断、不可用",23,18,0,5,0.6,3,{"$f":"VLOOKUP(H64,Sheet_0!G:AG,26,0)","v":3},5,{"$f":"VLOOKUP(H64,Sheet_0!G:AG,27,0)","v":5},0.6,3,5,0.6,3,{"$f":"VLOOKUP(H64,Sheet_0!G:AJ,29,0)","v":3},5,{"$f":"VLOOKUP(H64,Sheet_0!G:AJ,30,0)","v":5},1,4,{"$f":"VLOOKUP(H64,Sheet_0!G:AM,32,0)","v":4},4,{"$f":"VLOOKUP(H64,Sheet_0!G:AM,33,0)","v":4},0,null,0,0,null,0,0,null,0,0,"\u001d\u001d\u001e\u001e\u001e\u001d\u001c\u001c\u001d\u001c\u001f\u001e\u001d\u001f"]
[202304,12,"2023-04-12","雄安新区","网络质量","移网网络体验","上网网络卡顿","雄安新区上网网络卡顿",32,32,0,0,0.8667,13,{"$f":"VLOOKUP(H65,Sheet_0!G:AG,26,0)","v":13},15,{"$f":"VLOOKUP(H65,Sheet_0!G:AG,27,0)","v":15},0.8667,13,15,0.8,12,{"$f":"VLOOKUP(H65,Sheet_0!G:AJ,29,0)","v":12},15,{"$f":"VLOOKUP(H65,Sheet_0!G:AJ,30,0)","v":15},0.8667,13,{"$f":"VLOOKUP(H65,Sheet_0!G:AM,32,0)","v":13},15,{"$f":"VLOOKUP(H65,Sheet_0!G:AM,33,0)","v":15},0,null,0,0,null,0,0,null,0,0,"\u001d\u001d\u001e\u001e\u001e\u001d\u001c\u001c\u001d\u001c\u001f\u001e\u001d\u001f"]
[202304,12,"2023-04-12","雄安新区","网络质量","移网网络体验","短信使用问题","雄安新区短信使用问题",1,0,0,1,1,1,{"$f":"VLOOKUP(H66,Sheet_0!G:AG,26,0)","v":1},1,{"$f":"VLOOKUP(H66,Sheet_0!G:AG,27,0)","v":1},1,1,1,1,1,{"$f":"VLOOKUP(H66,Sheet_0!G:AJ,29,0)","v":1},1,{"$f":"VLOOKUP(H66,Sheet_0!G:AJ,30,0)","v":1},1,1,{"$f":"VLOOKUP(H66,Sheet_0!G:AM,32,0)","v":1},1,{"$f":"VLOOKUP(H66,Sheet_0!G:AM,33,0)","v":1},0,null,0,0,null,0,0,null,0,0,"\u001d\u001d\u001e\u001e\u001e\u001d\u001c\u001c\u001d\u001c\u001f\u001e\u001d\u001f"]
[202304,12,"2023-04-12","雄安新区","网络质量","移网网络体验","语音通信问题",{"$f":"D67&G67","v":"雄安新区语音通信问题"},25,24,1,0,0.875,14,{"$f":"VLOOKUP(H67,Sheet_0!G:AG,26,0)","v":14},14,{"$f":"VLOOKUP(H67,Sheet_0!G:AG,27,0)","v":14},0.875,14,14,0.8125,13,{"$f":"VLOOKUP(H67,Sheet_0!G:AJ,29,0)","v":13},14,{"$f":"VLOOKUP(H67,Sheet_0!G:AJ,30,0)","v":14},0.8667,13,{"$f":"VLOOKUP(H67,Sheet_0!G:AM,32,0)","v":13},13,{"$f":"VLOOKUP(H67,Sheet_0!G:AM,33,0)","v":13},2,null,0,0,null,0,0,null,0,0,"\u001d\u001d\u001e\u001e\u001e\u001d\u001c\u001c\u001d\u001c\u001f\u001e\u001d\u001f"]